BEGIN:VCALENDAR
VERSION:2.0
PRODID:-//eventon.com NONSGML v1.0//EN
CALSCALE:GREGORIAN
METHOD:PUBLISH
BEGIN:VEVENT
UID:69eb4c2759231
DTSTAMP:20260424T105535Z
DTSTART:20260113T181500Z
DTEND:20260113T191500Z
LOCATION:
SUMMARY:Sensibilização "Doenças infeciosas e doenças de evicção escolar"\,  18h15
DESCRIPTION:Convidamos os pais/encarregados de educação e demais família
 \,  a participar numa ação de sensibilização para a nossa comunidade ed
 ucativa\,  no dia 13 de janeiro de 2026\,  pelas 18h15\,  na cantina da nos
 sa escola. O tema da formação será "Doenças infeciosas e doenças de ev
 icção escolar" e será ministrada por enfermeiras[..]\nhttps://escoladigi
 tal.madeira.gov.pt/eb1peismartinho/events/sensibilizacao-doencas-infeciosas
 -e-doencas-de-eviccao-escolar/
URL:https://escoladigital.madeira.gov.pt/eb1peismartinho/events/sensibilizacao-doencas-infeciosas-e-doencas-de-eviccao-escolar/
END:VEVENT
END:VCALENDAR